Package: segmenter Version: 1.14.0 Command: /Library/Frameworks/R.framework/Resources/bin/R CMD check --install=check:segmenter.install-out.txt --library=/Library/Frameworks/R.framework/Resources/library --no-vignettes --timings segmenter_1.14.0.tar.gz StartedAt: 2025-10-15 12:08:45 -0400 (Wed, 15 Oct 2025) EndedAt: 2025-10-15 12:18:20 -0400 (Wed, 15 Oct 2025) EllapsedTime: 574.2 seconds RetCode: 0 Status: OK CheckDir: segmenter.Rcheck Warnings: 0