Package: segmentSeq Version: 2.44.0 Command: /home/biocbuild/R/R/bin/R CMD INSTALL segmentSeq StartedAt: 2025-11-10 22:01:38 -0000 (Mon, 10 Nov 2025) EndedAt: 2025-11-10 22:02:29 -0000 (Mon, 10 Nov 2025) EllapsedTime: 51.4 seconds RetCode: 0 Status: OK