Package: segmentSeq Version: 2.44.0 Command: /home/biocbuild/R/R/bin/R CMD build --keep-empty-dirs --no-resave-data segmentSeq StartedAt: 2025-11-11 05:05:42 -0000 (Tue, 11 Nov 2025) EndedAt: 2025-11-11 05:09:00 -0000 (Tue, 11 Nov 2025) EllapsedTime: 198.1 seconds RetCode: 0 Status: OK PackageFile: segmentSeq_2.44.0.tar.gz PackageFileSize: 2.918 MiB