Package: segmentSeq Version: 2.44.0 Command: /home/biocbuild/bbs-3.22-bioc/R/bin/R CMD INSTALL segmentSeq StartedAt: 2025-11-11 15:56:09 -0500 (Tue, 11 Nov 2025) EndedAt: 2025-11-11 15:56:48 -0500 (Tue, 11 Nov 2025) EllapsedTime: 39.3 seconds RetCode: 0 Status: OK