Package: segmentSeq Version: 2.44.0 Command: /home/biocbuild/bbs-3.22-bioc/R/bin/R CMD check --install=check:segmentSeq.install-out.txt --library=/home/biocbuild/bbs-3.22-bioc/R/site-library --timings segmentSeq_2.44.0.tar.gz StartedAt: 2025-11-12 04:02:07 -0500 (Wed, 12 Nov 2025) EndedAt: 2025-11-12 04:10:06 -0500 (Wed, 12 Nov 2025) EllapsedTime: 478.5 seconds RetCode: 0 Status: OK CheckDir: segmentSeq.Rcheck Warnings: 0