Package: segmentSeq Version: 2.42.0 Command: /home/biocbuild/bbs-3.21-bioc/R/bin/R CMD check --install=check:segmentSeq.install-out.txt --library=/home/biocbuild/bbs-3.21-bioc/R/site-library --timings segmentSeq_2.42.0.tar.gz StartedAt: 2025-09-29 03:31:15 -0400 (Mon, 29 Sep 2025) EndedAt: 2025-09-29 03:39:09 -0400 (Mon, 29 Sep 2025) EllapsedTime: 473.7 seconds RetCode: 0 Status: OK CheckDir: segmentSeq.Rcheck Warnings: 0