Package: sechm Version: 1.18.0 Command: /home/biocbuild/bbs-3.22-bioc/R/bin/R CMD check --install=check:sechm.install-out.txt --library=/home/biocbuild/bbs-3.22-bioc/R/site-library --timings sechm_1.18.0.tar.gz StartedAt: 2025-11-15 04:15:57 -0500 (Sat, 15 Nov 2025) EndedAt: 2025-11-15 04:19:40 -0500 (Sat, 15 Nov 2025) EllapsedTime: 223.2 seconds RetCode: 0 Status: OK CheckDir: sechm.Rcheck Warnings: 0