Package: sechm Version: 1.18.0 Command: /Library/Frameworks/R.framework/Resources/bin/R CMD INSTALL sechm StartedAt: 2025-11-03 15:24:18 -0500 (Mon, 03 Nov 2025) EndedAt: 2025-11-03 15:24:51 -0500 (Mon, 03 Nov 2025) EllapsedTime: 32.8 seconds RetCode: 0 Status: OK