Package: sechm Version: 1.18.0 Command: /Library/Frameworks/R.framework/Resources/bin/R CMD build --keep-empty-dirs --no-resave-data sechm StartedAt: 2025-11-03 18:44:41 -0500 (Mon, 03 Nov 2025) EndedAt: 2025-11-03 18:45:54 -0500 (Mon, 03 Nov 2025) EllapsedTime: 73.0 seconds RetCode: 0 Status: OK PackageFile: sechm_1.18.0.tar.gz PackageFileSize: 1.051 MiB