Package: sechm Version: 1.18.0 Command: rm -rf sechm.buildbin-libdir && mkdir sechm.buildbin-libdir && /Users/biocbuild/BBS/utils/build-universal.sh sechm_1.18.0.tar.gz /Library/Frameworks/R.framework/Resources/bin/R sechm.buildbin-libdir StartedAt: 2025-11-04 02:03:37 -0500 (Tue, 04 Nov 2025) EndedAt: 2025-11-04 02:04:14 -0500 (Tue, 04 Nov 2025) EllapsedTime: 36.9 seconds RetCode: 0 Status: OK PackageFile: sechm_1.18.0.tgz PackageFileSize: 1.127 MiB