Package: sechm Version: 1.16.0 Command: /home/biocbuild/R/R/bin/R CMD build --keep-empty-dirs --no-resave-data sechm StartedAt: 2025-10-14 04:37:02 -0000 (Tue, 14 Oct 2025) EndedAt: 2025-10-14 04:38:39 -0000 (Tue, 14 Oct 2025) EllapsedTime: 97.1 seconds RetCode: 0 Status: OK PackageFile: sechm_1.16.0.tar.gz PackageFileSize: 990.1 KiB