Package: seahtrue Version: 1.4.0 Command: /home/biocbuild/bbs-3.22-bioc/R/bin/R CMD INSTALL seahtrue StartedAt: 2025-11-06 15:08:06 -0500 (Thu, 06 Nov 2025) EndedAt: 2025-11-06 15:08:15 -0500 (Thu, 06 Nov 2025) EllapsedTime: 8.9 seconds RetCode: 0 Status: OK