Package: scviR Version: 1.10.0 Command: /home/biocbuild/R/R/bin/R CMD INSTALL scviR StartedAt: 2025-11-20 22:47:19 -0000 (Thu, 20 Nov 2025) EndedAt: 2025-11-20 22:48:04 -0000 (Thu, 20 Nov 2025) EllapsedTime: 44.6 seconds RetCode: 0 Status: OK