Package: scviR Version: 1.10.0 Command: /home/biocbuild/R/R/bin/R CMD build --keep-empty-dirs --no-resave-data scviR StartedAt: 2025-11-21 05:49:13 -0000 (Fri, 21 Nov 2025) EndedAt: 2025-11-21 06:12:39 -0000 (Fri, 21 Nov 2025) EllapsedTime: 1406.6 seconds RetCode: 0 Status: OK PackageFile: scviR_1.10.0.tar.gz PackageFileSize: 2.876 MiB