Package: scviR Version: 1.10.0 Command: /home/biocbuild/bbs-3.22-bioc/R/bin/R CMD INSTALL scviR StartedAt: 2025-11-11 16:00:08 -0500 (Tue, 11 Nov 2025) EndedAt: 2025-11-11 16:00:39 -0500 (Tue, 11 Nov 2025) EllapsedTime: 31.4 seconds RetCode: 0 Status: OK