Package: scviR Version: 1.10.0 Command: /home/biocbuild/bbs-3.22-bioc/R/bin/R CMD check --install=check:scviR.install-out.txt --library=/home/biocbuild/bbs-3.22-bioc/R/site-library --timings scviR_1.10.0.tar.gz StartedAt: 2025-11-15 04:14:30 -0500 (Sat, 15 Nov 2025) EndedAt: 2025-11-15 04:30:07 -0500 (Sat, 15 Nov 2025) EllapsedTime: 936.9 seconds RetCode: 0 Status: OK CheckDir: scviR.Rcheck Warnings: 0