Package: scviR Version: 1.10.0 Command: /Library/Frameworks/R.framework/Resources/bin/R CMD INSTALL scviR StartedAt: 2025-11-03 15:53:25 -0500 (Mon, 03 Nov 2025) EndedAt: 2025-11-03 15:54:09 -0500 (Mon, 03 Nov 2025) EllapsedTime: 43.6 seconds RetCode: 0 Status: OK