Package: scviR Version: 1.8.0 Command: /home/biocbuild/R/R/bin/R CMD INSTALL scviR StartedAt: 2025-10-02 21:12:59 -0000 (Thu, 02 Oct 2025) EndedAt: 2025-10-02 21:13:42 -0000 (Thu, 02 Oct 2025) EllapsedTime: 43.2 seconds RetCode: 0 Status: OK