Package: scviR Version: 1.8.0 Command: /home/biocbuild/R/R/bin/R CMD build --keep-empty-dirs --no-resave-data scviR StartedAt: 2025-10-03 04:32:30 -0000 (Fri, 03 Oct 2025) EndedAt: 2025-10-03 04:35:47 -0000 (Fri, 03 Oct 2025) EllapsedTime: 197.1 seconds RetCode: 1 Status: ERROR PackageFile: None PackageFileSize: NA