Package: scuttle Version: 1.20.0 Command: /home/biocbuild/R/R/bin/R CMD INSTALL scuttle StartedAt: 2025-11-10 21:25:50 -0000 (Mon, 10 Nov 2025) EndedAt: 2025-11-10 21:27:31 -0000 (Mon, 10 Nov 2025) EllapsedTime: 100.7 seconds RetCode: 0 Status: OK