Package: scuttle Version: 1.20.0 Command: /home/biocbuild/R/R/bin/R CMD build --keep-empty-dirs --no-resave-data scuttle StartedAt: 2025-11-11 05:04:38 -0000 (Tue, 11 Nov 2025) EndedAt: 2025-11-11 05:08:20 -0000 (Tue, 11 Nov 2025) EllapsedTime: 221.1 seconds RetCode: 0 Status: OK PackageFile: scuttle_1.20.0.tar.gz PackageFileSize: 1.172 MiB