Package: scuttle Version: 1.20.0 Command: /home/biocbuild/bbs-3.22-bioc/R/bin/R CMD build --keep-empty-dirs --no-resave-data --md5 scuttle StartedAt: 2025-11-11 20:08:21 -0500 (Tue, 11 Nov 2025) EndedAt: 2025-11-11 20:10:58 -0500 (Tue, 11 Nov 2025) EllapsedTime: 157.1 seconds RetCode: 0 Status: OK PackageFile: scuttle_1.20.0.tar.gz PackageFileSize: 1011 KiB