Package: scuttle Version: 1.18.0 Command: /home/biocbuild/bbs-3.21-bioc/R/bin/R CMD check --install=check:scuttle.install-out.txt --library=/home/biocbuild/bbs-3.21-bioc/R/site-library --timings scuttle_1.18.0.tar.gz StartedAt: 2025-10-16 03:28:39 -0400 (Thu, 16 Oct 2025) EndedAt: 2025-10-16 03:36:21 -0400 (Thu, 16 Oct 2025) EllapsedTime: 461.6 seconds RetCode: 0 Status: OK CheckDir: scuttle.Rcheck Warnings: 0