Package: scuttle Version: 1.18.0 Command: /home/biocbuild/bbs-3.21-bioc/R/bin/R CMD build --keep-empty-dirs --no-resave-data scuttle StartedAt: 2025-10-15 19:49:53 -0400 (Wed, 15 Oct 2025) EndedAt: 2025-10-15 19:52:33 -0400 (Wed, 15 Oct 2025) EllapsedTime: 160.2 seconds RetCode: 0 Status: OK PackageFile: scuttle_1.18.0.tar.gz PackageFileSize: 1007 KiB