Package: scry Version: 1.22.0 Command: /home/biocbuild/bbs-3.22-bioc/R/bin/R CMD INSTALL scry StartedAt: 2025-11-11 15:59:04 -0500 (Tue, 11 Nov 2025) EndedAt: 2025-11-11 15:59:27 -0500 (Tue, 11 Nov 2025) EllapsedTime: 23.5 seconds RetCode: 0 Status: OK