Package: scry Version: 1.22.0 Command: /home/biocbuild/bbs-3.22-bioc/R/bin/R CMD check --install=check:scry.install-out.txt --library=/home/biocbuild/bbs-3.22-bioc/R/site-library --timings scry_1.22.0.tar.gz StartedAt: 2025-11-14 04:00:49 -0500 (Fri, 14 Nov 2025) EndedAt: 2025-11-14 04:07:25 -0500 (Fri, 14 Nov 2025) EllapsedTime: 396.4 seconds RetCode: 0 Status: OK CheckDir: scry.Rcheck Warnings: 0