Package: scry Version: 1.20.0 Command: /home/biocbuild/bbs-3.21-bioc/R/bin/R CMD build --keep-empty-dirs --no-resave-data scry StartedAt: 2025-10-15 19:48:54 -0400 (Wed, 15 Oct 2025) EndedAt: 2025-10-15 19:52:31 -0400 (Wed, 15 Oct 2025) EllapsedTime: 216.2 seconds RetCode: 0 Status: OK PackageFile: scry_1.20.0.tar.gz PackageFileSize: 4.495 MiB