Package: scry Version: 1.20.0 Command: /home/biocbuild/R/R/bin/R CMD INSTALL scry StartedAt: 2025-10-02 21:11:49 -0000 (Thu, 02 Oct 2025) EndedAt: 2025-10-02 21:12:22 -0000 (Thu, 02 Oct 2025) EllapsedTime: 32.7 seconds RetCode: 0 Status: OK