Package: scry Version: 1.20.0 Command: /home/biocbuild/R/R/bin/R CMD build --keep-empty-dirs --no-resave-data scry StartedAt: 2025-10-03 04:30:14 -0000 (Fri, 03 Oct 2025) EndedAt: 2025-10-03 04:38:05 -0000 (Fri, 03 Oct 2025) EllapsedTime: 471.2 seconds RetCode: 0 Status: OK PackageFile: scry_1.20.0.tar.gz PackageFileSize: 4.491 MiB