Package: scry Version: 1.20.0 Command: /Library/Frameworks/R.framework/Resources/bin/R CMD INSTALL scry StartedAt: 2025-04-21 15:28:23 -0400 (Mon, 21 Apr 2025) EndedAt: 2025-04-21 15:28:33 -0400 (Mon, 21 Apr 2025) EllapsedTime: 10.3 seconds RetCode: 0 Status: OK