Package: scry Version: 1.20.0 Command: /Library/Frameworks/R.framework/Resources/bin/R CMD build --keep-empty-dirs --no-resave-data scry StartedAt: 2025-04-21 17:36:40 -0400 (Mon, 21 Apr 2025) EndedAt: 2025-04-21 17:38:32 -0400 (Mon, 21 Apr 2025) EllapsedTime: 112.3 seconds RetCode: 0 Status: OK PackageFile: scry_1.20.0.tar.gz PackageFileSize: 4.522 MiB