Package: scruff Version: 1.28.0 Command: /home/biocbuild/bbs-3.22-bioc/R/bin/R CMD INSTALL scruff StartedAt: 2025-11-11 15:56:40 -0500 (Tue, 11 Nov 2025) EndedAt: 2025-11-11 15:57:46 -0500 (Tue, 11 Nov 2025) EllapsedTime: 66.1 seconds RetCode: 0 Status: OK