Package: scruff Version: 1.28.0 Command: /home/biocbuild/bbs-3.22-bioc/R/bin/R CMD check --install=check:scruff.install-out.txt --library=/home/biocbuild/bbs-3.22-bioc/R/site-library --timings scruff_1.28.0.tar.gz StartedAt: 2025-11-14 04:00:36 -0500 (Fri, 14 Nov 2025) EndedAt: 2025-11-14 04:08:43 -0500 (Fri, 14 Nov 2025) EllapsedTime: 487.4 seconds RetCode: 0 Status: OK CheckDir: scruff.Rcheck Warnings: 0