Package: scruff Version: 1.26.1 Command: /home/biocbuild/bbs-3.21-bioc/R/bin/R CMD INSTALL scruff StartedAt: 2025-10-15 15:50:24 -0400 (Wed, 15 Oct 2025) EndedAt: 2025-10-15 15:51:22 -0400 (Wed, 15 Oct 2025) EllapsedTime: 57.9 seconds RetCode: 0 Status: OK