Package: scruff Version: 1.26.1 Command: /home/biocbuild/bbs-3.21-bioc/R/bin/R CMD build --keep-empty-dirs --no-resave-data scruff StartedAt: 2025-10-15 19:48:44 -0400 (Wed, 15 Oct 2025) EndedAt: 2025-10-15 19:50:43 -0400 (Wed, 15 Oct 2025) EllapsedTime: 118.1 seconds RetCode: 0 Status: OK PackageFile: scruff_1.26.1.tar.gz PackageFileSize: 1.658 MiB