Package: scruff Version: 1.26.1 Command: /Library/Frameworks/R.framework/Resources/bin/R CMD build --keep-empty-dirs --no-resave-data scruff StartedAt: 2025-10-14 09:05:51 -0400 (Tue, 14 Oct 2025) EndedAt: 2025-10-14 09:08:33 -0400 (Tue, 14 Oct 2025) EllapsedTime: 162.6 seconds RetCode: 0 Status: OK PackageFile: scruff_1.26.1.tar.gz PackageFileSize: 1.714 MiB