Package: scruff Version: 1.26.1 Command: rm -rf scruff.buildbin-libdir && mkdir scruff.buildbin-libdir && /Users/biocbuild/BBS/utils/build-universal.sh scruff_1.26.1.tar.gz /Library/Frameworks/R.framework/Resources/bin/R scruff.buildbin-libdir StartedAt: 2025-10-15 20:26:21 -0400 (Wed, 15 Oct 2025) EndedAt: 2025-10-15 20:27:44 -0400 (Wed, 15 Oct 2025) EllapsedTime: 83.5 seconds RetCode: 0 Status: OK PackageFile: scruff_1.26.1.tgz PackageFileSize: 3.596 MiB