Package: scruff Version: 1.26.1 Maintainer: Zhe Wang MaintainerEmail: zhe at bu.edu git_url: https://git.bioconductor.org/packages/scruff git_branch: RELEASE_3_21 git_last_commit: 2060197 git_last_commit_date: 2025-10-06 15:18:15 -0400 (Mon, 06 Oct 2025)