Package: screenCounter Version: 1.10.0 Command: /home/biocbuild/bbs-3.22-bioc/R/bin/R CMD check --install=check:screenCounter.install-out.txt --library=/home/biocbuild/bbs-3.22-bioc/R/site-library --timings screenCounter_1.10.0.tar.gz StartedAt: 2025-11-15 04:11:20 -0500 (Sat, 15 Nov 2025) EndedAt: 2025-11-15 04:14:16 -0500 (Sat, 15 Nov 2025) EllapsedTime: 176.1 seconds RetCode: 0 Status: OK CheckDir: screenCounter.Rcheck Warnings: 0