Package: screenCounter Version: 1.10.0 Command: /Library/Frameworks/R.framework/Resources/bin/R CMD INSTALL screenCounter StartedAt: 2025-11-03 15:24:32 -0500 (Mon, 03 Nov 2025) EndedAt: 2025-11-03 15:26:09 -0500 (Mon, 03 Nov 2025) EllapsedTime: 96.3 seconds RetCode: 0 Status: OK