Package: screenCounter Version: 1.10.0 Command: /Library/Frameworks/R.framework/Resources/bin/R CMD build --keep-empty-dirs --no-resave-data screenCounter StartedAt: 2025-11-03 18:42:33 -0500 (Mon, 03 Nov 2025) EndedAt: 2025-11-03 18:44:23 -0500 (Mon, 03 Nov 2025) EllapsedTime: 109.8 seconds RetCode: 0 Status: OK PackageFile: screenCounter_1.10.0.tar.gz PackageFileSize: 292.4 KiB