Package: screenCounter Version: 1.10.0 Command: rm -rf screenCounter.buildbin-libdir && mkdir screenCounter.buildbin-libdir && /Users/biocbuild/BBS/utils/build-universal.sh screenCounter_1.10.0.tar.gz /Library/Frameworks/R.framework/Resources/bin/R screenCounter.buildbin-libdir StartedAt: 2025-11-04 02:03:21 -0500 (Tue, 04 Nov 2025) EndedAt: 2025-11-04 02:05:05 -0500 (Tue, 04 Nov 2025) EllapsedTime: 103.9 seconds RetCode: 0 Status: OK PackageFile: screenCounter_1.10.0.tgz PackageFileSize: 540.5 KiB