Package: screenCounter Version: 1.8.0 Command: /home/biocbuild/R/R/bin/R CMD INSTALL screenCounter StartedAt: 2025-10-09 20:31:31 -0000 (Thu, 09 Oct 2025) EndedAt: 2025-10-09 20:33:52 -0000 (Thu, 09 Oct 2025) EllapsedTime: 140.5 seconds RetCode: 0 Status: OK