Package: screenCounter Version: 1.8.0 Command: /home/biocbuild/R/R/bin/R CMD build --keep-empty-dirs --no-resave-data screenCounter StartedAt: 2025-10-10 04:26:34 -0000 (Fri, 10 Oct 2025) EndedAt: 2025-10-10 04:29:15 -0000 (Fri, 10 Oct 2025) EllapsedTime: 161.0 seconds RetCode: 0 Status: OK PackageFile: screenCounter_1.8.0.tar.gz PackageFileSize: 318.6 KiB