Package: scrapper Version: 1.4.0 Command: /home/biocbuild/bbs-3.22-bioc/R/bin/R CMD INSTALL scrapper StartedAt: 2025-11-11 15:22:11 -0500 (Tue, 11 Nov 2025) EndedAt: 2025-11-11 15:28:20 -0500 (Tue, 11 Nov 2025) EllapsedTime: 369.2 seconds RetCode: 0 Status: OK