Package: scrapper Version: 1.4.0 Command: /home/biocbuild/bbs-3.22-bioc/R/bin/R CMD check --install=check:scrapper.install-out.txt --library=/home/biocbuild/bbs-3.22-bioc/R/site-library --timings scrapper_1.4.0.tar.gz StartedAt: 2025-11-15 04:10:53 -0500 (Sat, 15 Nov 2025) EndedAt: 2025-11-15 04:17:57 -0500 (Sat, 15 Nov 2025) EllapsedTime: 424.3 seconds RetCode: 0 Status: WARNINGS CheckDir: scrapper.Rcheck Warnings: 1