Package: scrapper Version: 1.4.0 Command: /home/biocbuild/bbs-3.22-bioc/R/bin/R CMD build --keep-empty-dirs --no-resave-data --md5 scrapper StartedAt: 2025-11-11 20:05:05 -0500 (Tue, 11 Nov 2025) EndedAt: 2025-11-11 20:13:32 -0500 (Tue, 11 Nov 2025) EllapsedTime: 506.4 seconds RetCode: 0 Status: OK PackageFile: scrapper_1.4.0.tar.gz PackageFileSize: 935.7 KiB