Package: scrapper Version: 1.4.0 Command: /Library/Frameworks/R.framework/Resources/bin/R CMD INSTALL scrapper StartedAt: 2025-11-03 15:25:09 -0500 (Mon, 03 Nov 2025) EndedAt: 2025-11-03 15:31:30 -0500 (Mon, 03 Nov 2025) EllapsedTime: 380.7 seconds RetCode: 0 Status: OK