Package: scrapper Version: 1.4.0 Command: /Library/Frameworks/R.framework/Resources/bin/R CMD build --keep-empty-dirs --no-resave-data scrapper StartedAt: 2025-11-03 18:41:49 -0500 (Mon, 03 Nov 2025) EndedAt: 2025-11-03 18:49:50 -0500 (Mon, 03 Nov 2025) EllapsedTime: 481.3 seconds RetCode: 0 Status: OK PackageFile: scrapper_1.4.0.tar.gz PackageFileSize: 1.062 MiB