Package: scrapper Version: 1.4.0 Command: rm -rf scrapper.buildbin-libdir && mkdir scrapper.buildbin-libdir && /Users/biocbuild/BBS/utils/build-universal.sh scrapper_1.4.0.tar.gz /Library/Frameworks/R.framework/Resources/bin/R scrapper.buildbin-libdir StartedAt: 2025-11-04 02:03:14 -0500 (Tue, 04 Nov 2025) EndedAt: 2025-11-04 02:10:02 -0500 (Tue, 04 Nov 2025) EllapsedTime: 408.6 seconds RetCode: 0 Status: OK PackageFile: scrapper_1.4.0.tgz PackageFileSize: 2.463 MiB